BEGIN:VCALENDAR
VERSION:2.0
PRODID:icalendar-ruby
CALSCALE:GREGORIAN
METHOD:PUBLISH
BEGIN:VEVENT
DTSTAMP:20260420T014439Z
UID:12-370525@elimbrockley.org.uk
DTSTART:20260420T180000Z
DTEND:20260420T200000Z
CLASS:PUBLIC
CREATED:20260419T122431
DESCRIPTION:Academy Class is designed to teach Biblical Doctrines (Know the
  truth)
LAST-MODIFIED:20260419T122431
LOCATION:Zoom
SUMMARY:Academy Class
URL;VALUE=URI:https://elimbrockley.org.uk/events/academy-class/2026-04-20
ATTACH;FILENAME=IMG_1004.jpeg;FMTTYPE=image/jpeg:https://dq5pwpg1q8ru0.clou
 dfront.net/2026/04/19/11/24/31/23c59fad-e7fa-4288-bc94-67843155f465/IMG_10
 04.jpeg
END:VEVENT
END:VCALENDAR
